BEGIN:VCALENDAR
VERSION:2.0
PRODID:-//千葉県よろず支援拠点・公式サイト - ECPv6.15.17.1//NONSGML v1.0//EN
CALSCALE:GREGORIAN
METHOD:PUBLISH
X-WR-CALNAME:千葉県よろず支援拠点・公式サイト
X-ORIGINAL-URL:https://chibayorozu.go.jp
X-WR-CALDESC:千葉県よろず支援拠点・公式サイト のイベント
REFRESH-INTERVAL;VALUE=DURATION:PT1H
X-Robots-Tag:noindex
X-PUBLISHED-TTL:PT1H
BEGIN:VTIMEZONE
TZID:Asia/Tokyo
BEGIN:STANDARD
TZOFFSETFROM:+0900
TZOFFSETTO:+0900
TZNAME:JST
DTSTART:20250101T000000
END:STANDARD
END:VTIMEZONE
BEGIN:VEVENT
DTSTART;TZID=Asia/Tokyo:20260417T140000
DTEND;TZID=Asia/Tokyo:20260417T160000
DTSTAMP:20260420T175333
CREATED:20260326T014851Z
LAST-MODIFIED:20260416T074649Z
UID:11692-1776434400-1776441600@chibayorozu.go.jp
SUMMARY:業務フロー見直しダイエット講座
DESCRIPTION:ビジネスの現場で、「やるべきことが多すぎて時間が足りない」「効率化したいけれど、どこから手をつけていいかわからない」と悩んだことはありませんか？\nこのセミナーでは、作業の「手数」に着目し、不要な手順や重複作業を洗い出して排除する方法を学びます。科学的アプローチと実践的なフレームワークを活用して、作業プロセスを可視化し、無駄を削ぎ落とす具体的なステップを紹介します。\nセミナーの内容は、日常業務を例にしたワークショップ形式で進行するため、すぐに職場で実践可能です。また、効率化を図るだけでなく、結果的に生まれた時間をどう活用するかについても考える機会を提供します。\n効率化と生産性向上を目指すすべての方に、おすすめのセミナーです。業務の負担を軽減し、時間を生み出すための第一歩を、ぜひこのセミナーで踏み出してください！\n\n\n\n\n\n\n\n\n\n開催概要\n\n\n\n\n\n\n開催日時\n2026年4月17日（金）14:00～16:00（受付13:45～）\n\n\n開催場所\n （公財）千葉県産業振興センター 千葉県よろず支援拠点　千葉市美浜区中瀬2-6-1 WBGマリブイースト23F (Google map)\n\n\n対象者\n中小企業、小規模事業者\n\n\n募集人数\n6名（先着順締め切り）\n\n\n参加費\n無料\n\n\n当日ご用意いただくもの\n特になし\n\n\n主催・共催\n主催：公益財団法人千葉県産業振興センター 千葉県よろず支援拠点（経済産業省関東経済産業局委託事業） 共催：株式会社日本政策金融公庫千葉支店／南関東創業支援センター\n\n\n\n講師紹介\n\n\n\n\n\n\n篠田　正行（しのだ　まさゆき）\n中小企業診断士、IEプロフェショナル、戦略的基盤技術高度化支援事業アドバイザー、周辺視目視検査協議会副会長\n \n\n\n\n\n\n\n\n\n【経歴】大手製造会社で、製造・技術開発・事業運営や、IE（Industrial Engineering 仕事の生産性を向上させる技術）を導入し、「強い拠点作り」をグローバルに実行（IE文献賞を受賞）してきました。その後、独立。小規模・中小の製造業やサービス業で、仕事の生産性向上を多数支援。また、新製品の企画から上市まで支援する戦略的基盤技術高度化支援事業アドバイザーや、目視検査を疲労が少なく検査制度・検査効率を飛躍的に向上させる「大学と企業からなる周辺視目視検査協議会」の副会長をしております。\n\n\n\n\n\n\n\n\n\n\n\n\n\n\n\n\n\n\n\n\n\n申込・問い合わせ\n\n\n\n必要事項をご記入の上、下記よりお申し込みください。 参加決定の返信がない場合、お手数ですがお電話での確認をお願いいたします。
URL:https://chibayorozu.go.jp/event/260417pm/
LOCATION:千葉県よろず支援拠点\, 美浜区中瀬2-6-1\, 千葉市\, 千葉県\, 261-7123\, 日本
ORGANIZER;CN="%E5%8D%83%E8%91%89%E7%9C%8C%E3%82%88%E3%82%8D%E3%81%9A%E6%94%AF%E6%8F%B4%E6%8B%A0%E7%82%B9":MAILTO:seminarentry@chibayorozu.go.jp
END:VEVENT
END:VCALENDAR