BEGIN:VCALENDAR
VERSION:2.0
PRODID:-//千葉県よろず支援拠点・公式サイト - ECPv6.15.17.1//NONSGML v1.0//EN
CALSCALE:GREGORIAN
METHOD:PUBLISH
X-WR-CALNAME:千葉県よろず支援拠点・公式サイト
X-ORIGINAL-URL:https://chibayorozu.go.jp
X-WR-CALDESC:千葉県よろず支援拠点・公式サイト のイベント
REFRESH-INTERVAL;VALUE=DURATION:PT1H
X-Robots-Tag:noindex
X-PUBLISHED-TTL:PT1H
BEGIN:VTIMEZONE
TZID:Asia/Tokyo
BEGIN:STANDARD
TZOFFSETFROM:+0900
TZOFFSETTO:+0900
TZNAME:JST
DTSTART:20240101T000000
END:STANDARD
END:VTIMEZONE
BEGIN:VEVENT
DTSTART;TZID=Asia/Tokyo:20251120T100000
DTEND;TZID=Asia/Tokyo:20251120T120000
DTSTAMP:20260421T113830
CREATED:20250930T002837Z
LAST-MODIFIED:20251116T232703Z
UID:11303-1763632800-1763640000@chibayorozu.go.jp
SUMMARY:【満員御礼】簡単ホームページ作成入門講座
DESCRIPTION:見栄えのいいホームページは高いお金を払って業者に依頼しないと作れないと思っていませんか？\n実はプロじゃなくても簡単に見栄えのいいホームページを作ることができるんです！\n今回は無料で使えるホームページ作成ツールであるJimdoを使って、実際にホームページを作成します。\nページの作成方法だけでなく、コンテンツの情報整理の仕方や魅力ある事業内容のPR方法など、見せ方についても説明いたします。効果の出るホームページを作りたい方は是非ご参加ください。\n\n\n\n\n\n\n\n開催概要\n\n\n\n\n\n\n開催日時\n2025年11月20日（木）10:00～12:00（受付9:45～）\n\n\n開催場所\n（公財）千葉県産業振興センター　よろず支援拠点 千葉市美浜区中瀬2-6-1　WBGマリブイースト23F (Google map)\n\n\n対象者\n中小企業、小規模事業者\n\n\n募集人数\n6名（先着順締め切り）\n\n\n参加費\n無料\n\n\n当日ご用意いただくもの\nWifiがつながるPC、メールアドレス（ご参加はPC操作のできる方に限らせていただきます）\n\n\n主催・共催\n主催：公益財団法人千葉県産業振興センター 千葉県よろず支援拠点（経済産業省関東経済産業局委託事業） 共催：株式会社日本政策金融公庫千葉支店／南関東創業支援センター\n\n\n\n講師紹介\n\n志鎌　真奈美（しかま　まなみ） \nチーフSNSマネージャー・ウェブ解析士\n \n\n\n\n\n\n\n\n\n【経歴】北海道函館市生まれ。北海道教育大学函館校卒業。\n1997年よりWeb制作を始める。ソフトウェア会社のWeb制作部門に5年間勤めた後、2002年4月に独立。Web制作・企画、システム構築などに従事。講師として、Webマーケティングやデザインのセミナー活動も行っている。\n著書に『無料で始めるネットショップ 作成&運営&集客がぜんぶわかる! 』、『WebデザイナーのためのJimdoスタイルブック』（共著、マイナビ））、『いますぐはじめるWeb文章の「書き方」入門教室』 （技術評論社）がある。\n\n\n\n\n\n\n\n\n\n\n\n\n\n\n\n\n\n申込・問い合わせ\n\n\n\n必要事項をご記入の上、下記よりお申し込みください。 参加確定の返信がない場合、お手数ですがお電話での確認をお願いいたします。
URL:https://chibayorozu.go.jp/event/251120am/
LOCATION:千葉県よろず支援拠点\, 美浜区中瀬2-6-1\, 千葉市\, 千葉県\, 261-7123\, 日本
ORGANIZER;CN="%E5%8D%83%E8%91%89%E7%9C%8C%E3%82%88%E3%82%8D%E3%81%9A%E6%94%AF%E6%8F%B4%E6%8B%A0%E7%82%B9":MAILTO:seminarentry@chibayorozu.go.jp
END:VEVENT
END:VCALENDAR