BEGIN:VCALENDAR
VERSION:2.0
PRODID:-//千葉県よろず支援拠点・公式サイト - ECPv6.15.17.1//NONSGML v1.0//EN
CALSCALE:GREGORIAN
METHOD:PUBLISH
X-WR-CALNAME:千葉県よろず支援拠点・公式サイト
X-ORIGINAL-URL:https://chibayorozu.go.jp
X-WR-CALDESC:千葉県よろず支援拠点・公式サイト のイベント
REFRESH-INTERVAL;VALUE=DURATION:PT1H
X-Robots-Tag:noindex
X-PUBLISHED-TTL:PT1H
BEGIN:VTIMEZONE
TZID:Asia/Tokyo
BEGIN:STANDARD
TZOFFSETFROM:+0900
TZOFFSETTO:+0900
TZNAME:JST
DTSTART:20240101T000000
END:STANDARD
END:VTIMEZONE
BEGIN:VEVENT
DTSTART;TZID=Asia/Tokyo:20251117T100000
DTEND;TZID=Asia/Tokyo:20251117T120000
DTSTAMP:20260421T112537
CREATED:20250930T002812Z
LAST-MODIFIED:20251114T080029Z
UID:11299-1763373600-1763380800@chibayorozu.go.jp
SUMMARY:実録！ひとりで自由に会社を続けるコツ
DESCRIPTION:勢いで独立して株式会社を作ってみたら、サービスの考案、営業、経理など、やることがいっぱい！ 9年前に「WEB企画制作・デザイン」で起業してから、現在も一人親方で生き存えている講師が、楽しかったことや辛かったこと、運が良かったことや頑張ったことなどをお話しします。\n「それなら自分も試せそう」と思える販促のヒントや、「そんな緩い会社経営もアリなんだ」という勇気、ご自身の事業への想いを再発見するきっかけなどを得て頂けましたら幸いです。\n \n【おすすめの対象者】\n・既に独立して一人で頑張っている方\n・これから起業したいと考えている方\n・自分が創ったもので承認欲求を得たいクリエイター気質の方\n\n\n\n\n\n\n\n\n開催概要\n\n\n\n\n\n\n開催日時\n2025年11月17日（月）10:00～12:00（受付9:45～）\n\n\n開催場所\n（公財）千葉県産業振興センター　よろず支援拠点 千葉市美浜区中瀬2-6-1　WBGマリブイースト23F (Google map)\n\n\n対象者\n中小企業、小規模事業者\n\n\n募集人数\n6名（先着順締め切り）\n\n\n参加費\n無料\n\n\n当日ご用意いただくもの\n特になし\n\n\n主催・共催\n主催：公益財団法人千葉県産業振興センター 千葉県よろず支援拠点（経済産業省関東経済産業局委託事業） 共催：株式会社日本政策金融公庫千葉支店／南関東創業支援センター\n\n\n\n講師紹介\n\n\n\n\n\n\n平澤 誠治（ひらさわ せいじ）\n地域メディアクリエーター\n \n\n\n\n\n\n\n\n\n【経歴】ITコンテンツ企業数社でモバイルアプリやソーシャルゲーム等の企画・ディレクションを経て、県内広告代理店へ転職。WEBメディア運用や、開発ソリューション事業の立ち上げに従事。 2016年に独立して「株式会社せひら」を設立し、WEBシステム開発やキャラクター企画制作を事業とする傍ら、千葉市の海浜地域に着目した地域コミュニティメディア「ちばみなとjp」の運営をライフワークとしている。\n\n\n\n\n\n\n\n\n\n\n\n\n\n\n\n\n\n\n\n\n\n申込・問い合わせ\n\n\n\n必要事項をご記入の上、下記よりお申し込みください。 参加確定の返信がない場合、お手数ですがお電話での確認をお願いいたします。
URL:https://chibayorozu.go.jp/event/251117am/
LOCATION:千葉県よろず支援拠点\, 美浜区中瀬2-6-1\, 千葉市\, 千葉県\, 261-7123\, 日本
ORGANIZER;CN="%E5%8D%83%E8%91%89%E7%9C%8C%E3%82%88%E3%82%8D%E3%81%9A%E6%94%AF%E6%8F%B4%E6%8B%A0%E7%82%B9":MAILTO:seminarentry@chibayorozu.go.jp
END:VEVENT
END:VCALENDAR