BEGIN:VCALENDAR
VERSION:2.0
PRODID:-//千葉県よろず支援拠点・公式サイト - ECPv6.15.17.1//NONSGML v1.0//EN
CALSCALE:GREGORIAN
METHOD:PUBLISH
X-ORIGINAL-URL:https://chibayorozu.go.jp
X-WR-CALDESC:千葉県よろず支援拠点・公式サイト のイベント
REFRESH-INTERVAL;VALUE=DURATION:PT1H
X-Robots-Tag:noindex
X-PUBLISHED-TTL:PT1H
BEGIN:VTIMEZONE
TZID:Asia/Tokyo
BEGIN:STANDARD
TZOFFSETFROM:+0900
TZOFFSETTO:+0900
TZNAME:JST
DTSTART:20240101T000000
END:STANDARD
END:VTIMEZONE
BEGIN:VEVENT
DTSTART;TZID=Asia/Tokyo:20251106T100000
DTEND;TZID=Asia/Tokyo:20251106T120000
DTSTAMP:20260421T112748
CREATED:20250930T002659Z
LAST-MODIFIED:20251030T011237Z
UID:11290-1762423200-1762430400@chibayorozu.go.jp
SUMMARY:【満員御礼】公開！売れるネットショップ運営法
DESCRIPTION:本セミナーでは、BASEを使ったネットショップ運営のリアルな実例をもとに、売上拡大のプロセスを徹底解説します。実体験を題材に、広告運用、商品ページ改善、リピーター獲得、数値管理など実務的な工夫を紹介。単なる理論ではなく、現場で直面した課 題とその解決策を共有し、すぐに使えるノウハウを提供します。小規模事業者や個人事業主が限られたリソースで効率よく売上を伸ばすためのヒントが満載です。\n【こんな方におすすめ】\n・ネットショップを運営している方\n・これからネットショップを始めたいと思っている方\n・売上が伸び悩んでいる方\n【主な内容】\n・実録データで見る売上推移\n・商品ページ改善の工夫\n・リピーター戦略\n・今後の成長に必要な視点\n\n\n\n\n\n\n\n開催概要\n\n\n\n\n\n\n開催日時\n2025年11月6日（木）10:00～12:00（受付9：45～）\n\n\n開催場所\n（公財）千葉県産業振興センター　よろず支援拠点 千葉市美浜区中瀬2-6-1　WBGマリブイースト23F (Google map)\n\n\n対象者\n中小企業、小規模事業者\n\n\n募集人数\n6名（先着順締め切り）\n\n\n参加費\n無料\n\n\n当日ご用意いただくもの\n特になし\n\n\n主催・共催\n主催：公益財団法人千葉県産業振興センター 千葉県よろず支援拠点（経済産業省関東経済産業局委託事業） 共催：株式会社日本政策金融公庫千葉支店／南関東創業支援センター\n\n\n\n講師紹介\n\n\n清田 建一（きよた けんいち）\n中小企業診断士\n \n【経歴】小規模事業の会社設立、経営に携わりながら、雑貨の企画・設計・生産管理・製造に20年以上従事。会社経営を一から自分で始めたため、事務系の仕事から、デザイン、販売に至るまでの経営体制を、現場に身を投じて構築してきた。経営者としての実践力と、中小企業診断士としての論理を両輪に、戦略提案、内部改革を行う。\n\n\n\n\n\n\n\n\n\n申込・問い合わせ\n\n\n\n必要事項をご記入の上、下記よりお申し込みください。 参加確定の返信がない場合、お手数ですがお電話での確認をお願いいたします。
URL:https://chibayorozu.go.jp/event/251106am/
LOCATION:千葉県よろず支援拠点\, 美浜区中瀬2-6-1\, 千葉市\, 千葉県\, 261-7123\, 日本
ORGANIZER;CN="%E5%8D%83%E8%91%89%E7%9C%8C%E3%82%88%E3%82%8D%E3%81%9A%E6%94%AF%E6%8F%B4%E6%8B%A0%E7%82%B9":MAILTO:seminarentry@chibayorozu.go.jp
END:VEVENT
END:VCALENDAR