BEGIN:VCALENDAR
VERSION:2.0
PRODID:-//千葉県よろず支援拠点・公式サイト - ECPv6.15.17.1//NONSGML v1.0//EN
CALSCALE:GREGORIAN
METHOD:PUBLISH
X-WR-CALNAME:千葉県よろず支援拠点・公式サイト
X-ORIGINAL-URL:https://chibayorozu.go.jp
X-WR-CALDESC:千葉県よろず支援拠点・公式サイト のイベント
REFRESH-INTERVAL;VALUE=DURATION:PT1H
X-Robots-Tag:noindex
X-PUBLISHED-TTL:PT1H
BEGIN:VTIMEZONE
TZID:Asia/Tokyo
BEGIN:STANDARD
TZOFFSETFROM:+0900
TZOFFSETTO:+0900
TZNAME:JST
DTSTART:20240101T000000
END:STANDARD
END:VTIMEZONE
BEGIN:VEVENT
DTSTART;TZID=Asia/Tokyo:20251028T100000
DTEND;TZID=Asia/Tokyo:20251028T120000
DTSTAMP:20260421T095729
CREATED:20250826T020025Z
LAST-MODIFIED:20250826T020025Z
UID:11216-1761645600-1761652800@chibayorozu.go.jp
SUMMARY:【Web開催】実務に役立つ雇用・労務の基本講座
DESCRIPTION:【対象者】\n従業員の雇用を予定している、または従業員雇用に不安を抱える小規模事業者\n【内容】\n1.雇用の基本知識\n2.労働基準法とその遵守\n3.社会保険と労働保険の基礎知識\n4.給与計算の基礎\n5.労務トラブルの予防と対応\n※内容は一部変更する場合がございます。\n\n開催概要\n\n\n\n\n\n\n開催日時\n2025年10月28日（火）10:00～12:00（受9：55～）\n\n\n開催場所\nWeb開催\n\n\n対象者\n中小企業・小規模事業者\n\n\n募集人数\n8名（先着順締め切り）\n\n\n参加費\n無料\n\n\n当日の持ち物\n特になし\n\n\n主催・共催\n主催：公益財団法人千葉県産業振興センター 千葉県よろず支援拠点（経済産業省関東経済産業局委託事業） 共催：株式会社日本政策金融公庫千葉支店／南関東創業支援センター\n\n\n\n講師紹介\n\n木田 仁志（きだ ひとし）　 \n中小企業診断士・社会保険労務士\n \n【経歴】国内大手航空会社で約30年間、人事労務分野の業務に従事。その後、公的経営支援機関にて創業支援、売上拡大、資金繰りなどの窓口相談を実施。2024年２月に社労士及び診断士として独立開業。\n\n申込・問い合わせ\n必要事項をご記入の上、下記よりお申し込みください。参加確定の連絡がない場合、お手数ですがお電話での確認をお願いいたします。エラー: コンタクトフォームが見つかりません。
URL:https://chibayorozu.go.jp/event/251028am/
LOCATION:Web開催
ORGANIZER;CN="%E5%8D%83%E8%91%89%E7%9C%8C%E3%82%88%E3%82%8D%E3%81%9A%E6%94%AF%E6%8F%B4%E6%8B%A0%E7%82%B9":MAILTO:seminarentry@chibayorozu.go.jp
END:VEVENT
END:VCALENDAR