BEGIN:VCALENDAR
VERSION:2.0
PRODID:-//千葉県よろず支援拠点・公式サイト - ECPv6.15.17.1//NONSGML v1.0//EN
CALSCALE:GREGORIAN
METHOD:PUBLISH
X-WR-CALNAME:千葉県よろず支援拠点・公式サイト
X-ORIGINAL-URL:https://chibayorozu.go.jp
X-WR-CALDESC:千葉県よろず支援拠点・公式サイト のイベント
REFRESH-INTERVAL;VALUE=DURATION:PT1H
X-Robots-Tag:noindex
X-PUBLISHED-TTL:PT1H
BEGIN:VTIMEZONE
TZID:Asia/Tokyo
BEGIN:STANDARD
TZOFFSETFROM:+0900
TZOFFSETTO:+0900
TZNAME:JST
DTSTART:20240101T000000
END:STANDARD
END:VTIMEZONE
BEGIN:VEVENT
DTSTART;TZID=Asia/Tokyo:20251024T100000
DTEND;TZID=Asia/Tokyo:20251024T120000
DTSTAMP:20260421T095729
CREATED:20250826T015946Z
LAST-MODIFIED:20250826T015946Z
UID:11210-1761300000-1761307200@chibayorozu.go.jp
SUMMARY:はじめようスマホとYouTubeで商品PR(iPhone編)
DESCRIPTION:お金をかけずに携帯電話とYouTubeで売上アップしたい方におすすめのセミナーです。\nお金がかからない集客手段としてYouTubeを活用した動画宣伝が注目されています。\nYouTubeを使ってサービスを広めている事例などもご紹介いたします。\n普段お使いのiphone携帯を使ってYouTubeを有効活用する方法を紹介いたしますので、他とはちょっと違った集客方法に興味のある方はぜひご参加ください。\n\n\n\n\n\n\n\n開催概要\n\n\n\n\n\n\n開催日時\n2025年10月24日（金）10:00～12:00（受付9：45～）\n\n\n開催場所\n（公財）千葉県産業振興センター　よろず支援拠点 千葉市美浜区中瀬2-6-1　WBGマリブイースト23F (Google map)\n\n\n対象者\n中小企業、小規模事業者\n\n\n募集人数\n6名（先着順締め切り）\n\n\n参加費\n無料\n\n\n当日ご用意いただくもの\nお使いのiphoneをお持ちください（androidのスマートフォンでは今回参加できません）\n\n\n主催・共催\n主催：公益財団法人千葉県産業振興センター 千葉県よろず支援拠点（経済産業省関東経済産業局委託事業） 共催：株式会社日本政策金融公庫千葉支店／南関東創業支援センター\n\n\n\n講師紹介\n\n\n伊藤 壮平（いとう そうへい）\n中小企業診断士、ＩＴコーディネーター\n \n\n\n\n\n\n\n\n\n【経歴】総合アミューズメント企業にて店舗マネージャー、外食企業にてスマートフォン・モバイル・ソーシャル活用戦略業務等を経て、経営コンサルタントとして独立。Web・SNSを活用した販売促進・ICTツール活用による生産性向上などを中心とした支援や、創業・Web活用等に焦点を当てたセミナーにも多数登壇している。\n\n\n\n\n\n\n\n\n\n\n\n\n\n\n\n\n\n申込・問い合わせ\n\n\n\n必要事項をご記入の上、下記よりお申し込みください。 参加確定の連絡がない場合、お手数ですがお電話での確認をお願いいたします。エラー: コンタクトフォームが見つかりません。
URL:https://chibayorozu.go.jp/event/251024am/
LOCATION:千葉県よろず支援拠点\, 美浜区中瀬2-6-1\, 千葉市\, 千葉県\, 261-7123\, 日本
ORGANIZER;CN="%E5%8D%83%E8%91%89%E7%9C%8C%E3%82%88%E3%82%8D%E3%81%9A%E6%94%AF%E6%8F%B4%E6%8B%A0%E7%82%B9":MAILTO:seminarentry@chibayorozu.go.jp
END:VEVENT
BEGIN:VEVENT
DTSTART;TZID=Asia/Tokyo:20251024T140000
DTEND;TZID=Asia/Tokyo:20251024T160000
DTSTAMP:20260421T095729
CREATED:20250826T015958Z
LAST-MODIFIED:20250826T015958Z
UID:11212-1761314400-1761321600@chibayorozu.go.jp
SUMMARY:【Web開催】これさえマスターすれば、現場改善は上手くいく！
DESCRIPTION:２つの製造企業の成功事例を通して、科学的な改善手法を学ぶ講座です。\n２つの成功事例、①２５年行ってきた生産方式を転換し、廃棄ロスの削減、原料・エネルギーコストの削減、作業環境を大幅に改善した企業、②現在料コストアップやエネルギーコストアップなどにより赤字が続き、現場改善と経営分析のPDCAを組み合わせ黒字に転換した企業、これらを通して、改善の考え方を学びます。\nまた、成功事例で使用した科学的改善手法に加え、品質・生産性・デリバリーの基礎的な科学的改善手法をご紹介します。\n\n\n\n\n\n\n\n\n\n開催概要\n\n\n\n\n\n\n開催日時\n2025年10月24日（金）14:00～16:00（受付13:55～）\n\n\n開催場所\nWeb開催\n\n\n対象者\n中小企業、小規模事業者\n\n\n募集人数\n8名（先着順締め切り）\n\n\n参加費\n無料\n\n\n当日ご用意いただくもの\n特になし\n\n\n主催・共催\n主催：公益財団法人千葉県産業振興センター 千葉県よろず支援拠点（経済産業省関東経済産業局委託事業） 共催：株式会社日本政策金融公庫千葉支店／南関東創業支援センター\n\n\n\n講師紹介\n\n\n\n\n\n\n篠田　正行（しのだ　まさゆき）\n中小企業診断士、IEプロフェショナル、戦略的基盤技術高度化支援事業アドバイザー、周辺視目視検査協議会副会長\n \n\n\n\n\n\n\n\n\n【経歴】大手製造会社で、製造・技術開発・事業運営や、IE（Industrial Engineering 仕事の生産性を向上させる技術）を導入し、「強い拠点作り」をグローバルに実行（IE文献賞を受賞）してきました。その後、独立。小規模・中小の製造業やサービス業で、仕事の生産性向上を多数支援。また、新製品の企画から上市まで支援する戦略的基盤技術高度化支援事業アドバイザーや、目視検査を疲労が少なく検査制度・検査効率を飛躍的に向上させる「大学と企業からなる周辺視目視検査協議会」の副会長をしております。\n\n\n\n\n\n\n\n\n\n\n\n\n\n\n\n\n\n\n\n\n\n申込・問い合わせ\n\n\n\n必要事項をご記入の上、下記よりお申し込みください。 参加確定の連絡がない場合、お手数ですがお電話での確認をお願いいたします。エラー: コンタクトフォームが見つかりません。 \n\n 
URL:https://chibayorozu.go.jp/event/251024pm/
LOCATION:Web開催
ORGANIZER;CN="%E5%8D%83%E8%91%89%E7%9C%8C%E3%82%88%E3%82%8D%E3%81%9A%E6%94%AF%E6%8F%B4%E6%8B%A0%E7%82%B9":MAILTO:seminarentry@chibayorozu.go.jp
END:VEVENT
END:VCALENDAR