BEGIN:VCALENDAR
VERSION:2.0
PRODID:-//千葉県よろず支援拠点・公式サイト - ECPv6.15.17.1//NONSGML v1.0//EN
CALSCALE:GREGORIAN
METHOD:PUBLISH
X-ORIGINAL-URL:https://chibayorozu.go.jp
X-WR-CALDESC:千葉県よろず支援拠点・公式サイト のイベント
REFRESH-INTERVAL;VALUE=DURATION:PT1H
X-Robots-Tag:noindex
X-PUBLISHED-TTL:PT1H
BEGIN:VTIMEZONE
TZID:Asia/Tokyo
BEGIN:STANDARD
TZOFFSETFROM:+0900
TZOFFSETTO:+0900
TZNAME:JST
DTSTART:20240101T000000
END:STANDARD
END:VTIMEZONE
BEGIN:VEVENT
DTSTART;TZID=Asia/Tokyo:20251020T100000
DTEND;TZID=Asia/Tokyo:20251020T120000
DTSTAMP:20260421T095856
CREATED:20250826T015855Z
LAST-MODIFIED:20251017T073622Z
UID:11202-1760954400-1760961600@chibayorozu.go.jp
SUMMARY:【主にBtoB向け】価格転嫁の基礎の基礎
DESCRIPTION:昨今、原材料・人件費・エネルギーコスト等、事業を取り巻く様々なコストが高騰しています。売り先に対して転嫁したいところですが、上手く交渉が進まないことが多いようです。 値上げは勇気が必要な行為ですし、また「交渉術」「話術」「駆け引き」のようなテクニックやノウハウも必要そうです。\nしかし、実はこれらのテクニックやノウハウは大して意味を持ちません。\n本当に重要なのは「（価格の）根拠の見える化」です。\n本セミナーでは、価格転嫁に向け、どのような資料収集・作成が必要か、基礎的な内容をお伝えします。\n\n\n\n\n\n\n開催概要\n\n\n\n\n\n\n開催日時\n2025年10月20日（月）10:00～12:00（受付9：45～）\n\n\n開催場所\n（公財）千葉県産業振興センター 千葉県よろず支援拠点　千葉市美浜区中瀬2-6-1 WBGマリブイースト23F (Google map)\n\n\n対象者\n中小企業、小規模事業者\n\n\n募集人数\n6名（先着順締め切り）\n\n\n参加費\n無料\n\n\n当日ご用意いただくもの\n特になし\n\n\n主催・共催\n主催：公益財団法人千葉県産業振興センター 千葉県よろず支援拠点（経済産業省関東経済産業局委託事業） 共催：株式会社日本政策金融公庫千葉支店／南関東創業支援センター\n\n\n\n講師紹介\n\n北野 孝志（きたの たかし）\n中小企業診断士\n \n\n\n\n\n\n\n\n\n【経歴】通信機器商社・携帯電話事業者にて、新規事業開発・マーケティング・営業等に従事したのち独立。 長く携帯電話の料金プランを設計していたこともあり、専門はプライシング（価格戦略や収益シミュレーション）起業相談の経験も豊富で、ビジネスモデル・計画のアドバイスも得意としている。\n\n\n\n\n\n\n\n\n\n\n\n\n\n\n\n\n申込・問い合わせ\n\n\n\n必要事項をご記入の上、下記よりお申し込みください。 参加確定の連絡がない場合、お手数ですがお電話での確認をお願いいたします。
URL:https://chibayorozu.go.jp/event/251020am/
LOCATION:千葉県よろず支援拠点\, 美浜区中瀬2-6-1\, 千葉市\, 千葉県\, 261-7123\, 日本
ORGANIZER;CN="%E5%8D%83%E8%91%89%E7%9C%8C%E3%82%88%E3%82%8D%E3%81%9A%E6%94%AF%E6%8F%B4%E6%8B%A0%E7%82%B9":MAILTO:seminarentry@chibayorozu.go.jp
END:VEVENT
END:VCALENDAR