BEGIN:VCALENDAR
VERSION:2.0
PRODID:-//千葉県よろず支援拠点・公式サイト - ECPv6.15.17.1//NONSGML v1.0//EN
CALSCALE:GREGORIAN
METHOD:PUBLISH
X-WR-CALNAME:千葉県よろず支援拠点・公式サイト
X-ORIGINAL-URL:https://chibayorozu.go.jp
X-WR-CALDESC:千葉県よろず支援拠点・公式サイト のイベント
REFRESH-INTERVAL;VALUE=DURATION:PT1H
X-Robots-Tag:noindex
X-PUBLISHED-TTL:PT1H
BEGIN:VTIMEZONE
TZID:Asia/Tokyo
BEGIN:STANDARD
TZOFFSETFROM:+0900
TZOFFSETTO:+0900
TZNAME:JST
DTSTART:20240101T000000
END:STANDARD
END:VTIMEZONE
BEGIN:VEVENT
DTSTART;TZID=Asia/Tokyo:20250924T100000
DTEND;TZID=Asia/Tokyo:20250924T120000
DTSTAMP:20260421T082339
CREATED:20250729T012711Z
LAST-MODIFIED:20250729T012711Z
UID:11115-1758708000-1758715200@chibayorozu.go.jp
SUMMARY:【Web開催】小さなお店が輝く！5つの秘策
DESCRIPTION:地域には、まだまだ頑張る小さなお店がたくさんあります。皆さまは単なる店舗ではなく、「地域になくてはならない存在」です。だからこそ、売上の維持・拡大が重要です。\nさらに、政府が進める「地方創生」の追い風も吹いています。\n本セミナーでは、全国の成功事例から お金をかけずにできる 売上アップのポイントをわかりやすくご紹介。加えて、今話題の生成AI（無料のChatGPT）を活用し、誰でも簡単にこれらの秘策を実践できる方法を実演します。\nまた、秘策のひとつとして、AIを活用した補助金申請の方法もご紹介。参加者の皆さまと共に、新しいアイデアを考える時間も設けています。\n◆こんな方におすすめ\n・お客様がなかなか来ないとお悩みの方\n・リピーターが増えず悩んでいる方\n・売上アップのため補助金活用を検討中だが申請が難しいと感じている方\n【主な内容】\n・地域で小さなお店が必要とされる理由\n・追い風となる「地方創生2.0」とは\n・全国の小さなお店の売上アップ成功要因\n・さらに輝く5つの秘策 ～補助金申請などAI活用の実演も～\nほか\n※内容は変更になる場合があります。\n\n\n\n\n\n\n\n\n\n開催概要\n\n\n\n\n\n\n開催日時\n2025年9月24日（水）10:00～12:00（受付9:55～）\n\n\n開催場所\nWeb開催\n\n\n対象者\n中小企業、小規模事業者\n\n\n募集人数\n8名（先着順締め切り）\n\n\n参加費\n無料\n\n\n当日ご用意いただくもの\n特になし\n\n\n主催・共催\n主催：公益財団法人千葉県産業振興センター 千葉県よろず支援拠点（経済産業省関東経済産業局委託事業） 共催：株式会社日本政策金融公庫千葉支店／南関東創業支援センター\n\n\n\n講師紹介\n\n\n \n\n\n\n明田 知大（あけだ ちひろ）\n中小企業診断士、食の6次産業化プロデューサー、消費生活アドバイザー\n \n\n\n\n\n\n\n\n\n【経歴】精密化学メーカーに入社、主に営業、マーケティング、新規事業立ち上げ（化粧品）に従事した。グループ会社では、商談会等イベントの実施、Web受注システム構築、電話営業部隊の新設、人事制度の改革など幅広く職種を経験した。販路開拓、販売プロモーション、事業計画作成、人事制度構築などに広く知識・経験ノウハウを有す。\n\n\n\n\n\n\n\n\n\n\n\n\n\n\n\n\n\n\n\n\n\n申込・問い合わせ\n\n\n\n必要事項をご記入の上、下記よりお申し込みください。参加決定の返信がない場合、お手数ですがお電話での確認をお願いいたします。\n\n  \n\n\n\n参加者情報\n\n 参加希望日・セミナー名\n2025年9月24日（水）10:00 【Web開催】小さなお店が輝く！5つの秘策\n \n■氏名【必須】\n \n \n■氏名（フリガナ）【必須】\n \n \n■性別【必須】\n—以下から選択してください—男性女性回答しない \n \n■年齢【必須】\n—以下から選択してください—29歳以下30歳代40歳代50歳代60歳以上回答しない \n \n■部署\n \n \n■役職【必須】\n—以下から選択してください—代表者役員管理職一般社員その他 \n \n■電話番号【必須】\n\n \n■メールアドレス【必須】\n \n \n事業者情報\n\n■事業者名（法人）・屋号（個人）【必須】\n \n \n■事業者名（法人）・屋号（個人）（フリガナ）【必須】\n \n \n■代表者氏名【必須】\n \n \n■代表者氏名（フリガナ）【必須】\n \n \n■会社形態【必須】\n—以下から選択してください—法人個人事業主創業前 \n \n■法人番号 (法人の場合)\n \n \n■郵便番号【必須】\n \n \n■住所【必須】\n \n \n■代表電話番号【必須】\n\n \n■代表ホームページURL\n\n \n■代表メールアドレス【必須】\n \n \n■創業時期（年）【必須】\n 年\n※「創業前」のかたは、創業予定年月を記入してください\n \n■創業時期（月）【必須】\n—以下から選択してください—1月2月3月4月5月6月7月8月9月10月11月12月\n \n■主要事業・製品【必須】\n\n \n■資本金 (法人の場合)（実数／円）\n 円\n※単位は円となります。（300万円 → 3000000 と記入）\n \n■売上高（実数／円）【必須】\n 円\n※直近年度のものを、おおよそで構いません。単位は円となります。（1000万円 → 10000000 と記入）\n \n■従業員数（実数／名）【必須】\n 名\n \n■業種大分類【必須】\n—以下から選択してください—A.農業，林業B.漁業C.鉱業，採石業，砂利採取業D.建設業E.製造業F.電気・ガス・熱供給・水道業G.情報通信業H.運輸業，郵便業I.卸売業・小売業J.金融業・保険業K.不動産業，物品賃貸業L.学術研究，専門・技術サービス業M.宿泊業，飲食サービス業N.生活関連サービス業，娯楽業O.教育，学習支援業P.医療，福祉Q.複合サービス事業R.サービス業（他に分類されないもの）S.公務（他に分類されるものを除く）T.分類不能の産業\n \nアンケートにご協力ください\n\n■よろず支援拠点をどこでお知りになられましたか【必須】\n検索（Google・yahoo!等）ホームページ（行政・銀行等）ホームページ（地域メディア等）FacebookInstagramメルマガDMチラシ知人の紹介機関の紹介以前利用したことがある\n \n■紹介された機関名（○○銀行○○支店、○○商工会議所、○○市役所○○課、等）または、お知りになられた媒体（ホームページ名、SNSアカウント名、等）について、具体的にご記入ください【必須】\n\n \n セミナー参加の動機やご質問など (必須)\n\n \n以下、ご承諾いただきチェックをつけてください。\n \n個人情報保護方針に承諾する(必須)\n留意事項に承諾する(必須)\n \n\n Δ \n\n\n\n\n 
URL:https://chibayorozu.go.jp/event/250924am/
LOCATION:Web開催
ORGANIZER;CN="%E5%8D%83%E8%91%89%E7%9C%8C%E3%82%88%E3%82%8D%E3%81%9A%E6%94%AF%E6%8F%B4%E6%8B%A0%E7%82%B9":MAILTO:seminarentry@chibayorozu.go.jp
END:VEVENT
BEGIN:VEVENT
DTSTART;TZID=Asia/Tokyo:20250924T140000
DTEND;TZID=Asia/Tokyo:20250924T160000
DTSTAMP:20260421T082339
CREATED:20250729T012700Z
LAST-MODIFIED:20250729T012700Z
UID:11121-1758722400-1758729600@chibayorozu.go.jp
SUMMARY:【Web開催】どの補助金が活用できる？調べ方から申請まで
DESCRIPTION:国・県・市町村は企業の事業展開を支援するために、様々な補助金を予算化しています。\n補助金は募集開始から締切まで約1ヶ月と期間が短いことが多く、公募に気付いてから申請準備をスタートするのでは時間が足りません。\n・補助金の公募情報はどうやって集めるの？\n・採択されるためのポイントは？\n・そもそも、補助金って何？\n本セミナーでは、上記の疑問を解決し、余裕を持った補助金申請の準備を進めるための基礎知識を得ることを目標とします。\n\n開催概要\n\n\n\n\n\n\n開催日時\n2025年9月24日（水）14:00～16:00（受付13：55～）\n\n\n開催場所\nWeb開催\n\n\n対象者\n中小企業・小規模事業者\n\n\n募集人数\n8名（申込先着順）\n\n\n参加費\n無料\n\n\n当日の持ち物\n特になし\n\n\n主催・共催\n主催：公益財団法人千葉県産業振興センター 千葉県よろず支援拠点（経済産業省関東経済産業局委託事業） 共催：株式会社日本政策金融公庫千葉支店／南関東創業支援センター\n\n\n\n講師紹介\n\n平賀 千晴（ひらが ちはる） \n中小企業診断士、ITストラテジスト\n \n【経歴】民間企業の人事総務、経理、情報システムなどの管理部門でキャリアを重ね、中小企業診断士として独立。経営相談の他に補助金申請支援や執筆活動を行っている。 人事総務・経理関連のITを活用した業務効率化・生産性向上支援から、Webマーケティングを活用した販売力強化など幅広くアドバイスを行っている。\n\n申込・問い合わせ\n\n\n\n必要事項をご記入の上、下記よりお申し込みください。 参加決定の返信がない場合、お手数ですがお電話での確認をお願いいたします。\n\n  \n\n\n\n参加者情報\n\n 参加希望日・セミナー名\n2025年9月24日（水）14:00 【Web開催】どの補助金が活用できる？調べ方から申請まで\n \n■氏名【必須】\n \n \n■氏名（フリガナ）【必須】\n \n \n■性別【必須】\n—以下から選択してください—男性女性回答しない \n \n■年齢【必須】\n—以下から選択してください—29歳以下30歳代40歳代50歳代60歳以上回答しない \n \n■部署\n \n \n■役職【必須】\n—以下から選択してください—代表者役員管理職一般社員その他 \n \n■電話番号【必須】\n\n \n■メールアドレス【必須】\n \n \n事業者情報\n\n■事業者名（法人）・屋号（個人）【必須】\n \n \n■事業者名（法人）・屋号（個人）（フリガナ）【必須】\n \n \n■代表者氏名【必須】\n \n \n■代表者氏名（フリガナ）【必須】\n \n \n■会社形態【必須】\n—以下から選択してください—法人個人事業主創業前 \n \n■法人番号 (法人の場合)\n \n \n■郵便番号【必須】\n \n \n■住所【必須】\n \n \n■代表電話番号【必須】\n\n \n■代表ホームページURL\n\n \n■代表メールアドレス【必須】\n \n \n■創業時期（年）【必須】\n 年\n※「創業前」のかたは、創業予定年月を記入してください\n \n■創業時期（月）【必須】\n—以下から選択してください—1月2月3月4月5月6月7月8月9月10月11月12月\n \n■主要事業・製品【必須】\n\n \n■資本金 (法人の場合)（実数／円）\n 円\n※単位は円となります。（300万円 → 3000000 と記入）\n \n■売上高（実数／円）【必須】\n 円\n※直近年度のものを、おおよそで構いません。単位は円となります。（1000万円 → 10000000 と記入）\n \n■従業員数（実数／名）【必須】\n 名\n \n■業種大分類【必須】\n—以下から選択してください—A.農業，林業B.漁業C.鉱業，採石業，砂利採取業D.建設業E.製造業F.電気・ガス・熱供給・水道業G.情報通信業H.運輸業，郵便業I.卸売業・小売業J.金融業・保険業K.不動産業，物品賃貸業L.学術研究，専門・技術サービス業M.宿泊業，飲食サービス業N.生活関連サービス業，娯楽業O.教育，学習支援業P.医療，福祉Q.複合サービス事業R.サービス業（他に分類されないもの）S.公務（他に分類されるものを除く）T.分類不能の産業\n \nアンケートにご協力ください\n\n■よろず支援拠点をどこでお知りになられましたか【必須】\n検索（Google・yahoo!等）ホームページ（行政・銀行等）ホームページ（地域メディア等）FacebookInstagramメルマガDMチラシ知人の紹介機関の紹介以前利用したことがある\n \n■紹介された機関名（○○銀行○○支店、○○商工会議所、○○市役所○○課、等）または、お知りになられた媒体（ホームページ名、SNSアカウント名、等）について、具体的にご記入ください【必須】\n\n \n セミナー参加の動機やご質問など (必須)\n\n \n以下、ご承諾いただきチェックをつけてください。\n \n個人情報保護方針に承諾する(必須)\n留意事項に承諾する(必須)\n \n\n Δ
URL:https://chibayorozu.go.jp/event/250924pm/
LOCATION:Web開催
ORGANIZER;CN="%E5%8D%83%E8%91%89%E7%9C%8C%E3%82%88%E3%82%8D%E3%81%9A%E6%94%AF%E6%8F%B4%E6%8B%A0%E7%82%B9":MAILTO:seminarentry@chibayorozu.go.jp
END:VEVENT
END:VCALENDAR