BEGIN:VCALENDAR
VERSION:2.0
PRODID:-//千葉県よろず支援拠点・公式サイト - ECPv6.15.17.1//NONSGML v1.0//EN
CALSCALE:GREGORIAN
METHOD:PUBLISH
X-ORIGINAL-URL:https://chibayorozu.go.jp
X-WR-CALDESC:千葉県よろず支援拠点・公式サイト のイベント
REFRESH-INTERVAL;VALUE=DURATION:PT1H
X-Robots-Tag:noindex
X-PUBLISHED-TTL:PT1H
BEGIN:VTIMEZONE
TZID:Asia/Tokyo
BEGIN:STANDARD
TZOFFSETFROM:+0900
TZOFFSETTO:+0900
TZNAME:JST
DTSTART:20240101T000000
END:STANDARD
END:VTIMEZONE
BEGIN:VEVENT
DTSTART;TZID=Asia/Tokyo:20250917T100000
DTEND;TZID=Asia/Tokyo:20250917T120000
DTSTAMP:20260421T082508
CREATED:20250729T012749Z
LAST-MODIFIED:20250916T080103Z
UID:11109-1758103200-1758110400@chibayorozu.go.jp
SUMMARY:【Web開催】デジタル活用入門講座
DESCRIPTION:現在のデジタル技術で、簡単な事務作業はシステムやツール、またはデバイスやロボットに任せることが可能です。\n業務の自動化によって、作業時間を削減し、注力すべき業務に集中する結果を出している企業や組織が存在します。\n単純な事務作業は業界や業種問わず削減され、古いやり方で時間も労力も浪費するままでは、競争力を維持できません。\nデジタル技術を活用し、人力および手作業で行っていた業務をIT技術に任せる「業務の自動化」を実現しましょう。\n\n\n\n\n\n\n\n\n\n開催概要\n\n\n\n\n\n\n開催日時\n2025年9月17日（水）10:00～12:00（受付9:55～）\n\n\n開催場所\nWeb開催\n\n\n対象者\n中小企業、小規模事業者\n\n\n募集人数\n8名（先着順締め切り）\n\n\n参加費\n無料\n\n\n当日ご用意いただくもの\n特になし\n\n\n主催・共催\n主催：公益財団法人千葉県産業振興センター 千葉県よろず支援拠点（経済産業省関東経済産業局委託事業） 共催：株式会社日本政策金融公庫千葉支店／南関東創業支援センター\n\n\n\n講師紹介\n\n\n\n\n\n\n島村　康人（しまむら　やすひと）\n中小企業診断士、ITコーディネーター\n \n\n\n\n\n\n\n\n\n【経歴】大手精密機器・事務機企業グループに30年以上在籍し、製造会社・販売会社・情報システム開発会社にまたがる業務経験を積む。商品企画開発・販売プロモーション、ITシステム開発・運用、事業計画・事業管理などに広く知識・経験ノウハウを有す。\n\n\n\n\n\n\n\n\n\n\n\n\n\n\n\n\n\n\n\n\n\n申込・問い合わせ\n\n\n\n必要事項をご記入の上、下記よりお申し込みください。参加決定の返信がない場合、お手数ですがお電話での確認をお願いいたします。
URL:https://chibayorozu.go.jp/event/250917am/
LOCATION:Web開催
ORGANIZER;CN="%E5%8D%83%E8%91%89%E7%9C%8C%E3%82%88%E3%82%8D%E3%81%9A%E6%94%AF%E6%8F%B4%E6%8B%A0%E7%82%B9":MAILTO:seminarentry@chibayorozu.go.jp
END:VEVENT
END:VCALENDAR