BEGIN:VCALENDAR
VERSION:2.0
PRODID:-//千葉県よろず支援拠点・公式サイト - ECPv6.15.17.1//NONSGML v1.0//EN
CALSCALE:GREGORIAN
METHOD:PUBLISH
X-ORIGINAL-URL:https://chibayorozu.go.jp
X-WR-CALDESC:千葉県よろず支援拠点・公式サイト のイベント
REFRESH-INTERVAL;VALUE=DURATION:PT1H
X-Robots-Tag:noindex
X-PUBLISHED-TTL:PT1H
BEGIN:VTIMEZONE
TZID:Asia/Tokyo
BEGIN:STANDARD
TZOFFSETFROM:+0900
TZOFFSETTO:+0900
TZNAME:JST
DTSTART:20240101T000000
END:STANDARD
END:VTIMEZONE
BEGIN:VEVENT
DTSTART;TZID=Asia/Tokyo:20250822T100000
DTEND;TZID=Asia/Tokyo:20250822T120000
DTSTAMP:20260421T064428
CREATED:20250630T011218Z
LAST-MODIFIED:20250821T080010Z
UID:11047-1755856800-1755864000@chibayorozu.go.jp
SUMMARY:後継者必見！今日から始める事業承継
DESCRIPTION:日本の中小企業経営者の年齢は、健康寿命に比例し、60歳以上が過半数、80歳以上の割合も過去最多を記録しています。\n先代が事業承継してくれない！新たな取り組みができていない！相談しても反対ばかり！\nそんな悩みをお持ちの後継者の方が集まり、共有し、アイデアを交換する90分です。\n担当コーディネーターが具体的な方法の解説に事例紹介します。\n悩みは仲間と共に解消しましょう！\n\n\n\n\n\n\n\n\n\n開催概要\n\n\n\n\n\n\n開催日時\n2025年8月22日（金）10:00～12:00（受付9:45～）\n\n\n開催場所\n（公財）千葉県産業振興センター 千葉県よろず支援拠点　千葉市美浜区中瀬2-6-1 WBGマリブイースト23F (Google map)\n\n\n対象者\n中小企業、小規模事業者\n\n\n募集人数\n6名（先着順締め切り）\n\n\n参加費\n無料\n\n\n当日ご用意いただくもの\n特になし\n\n\n主催・共催\n主催：公益財団法人千葉県産業振興センター 千葉県よろず支援拠点（経済産業省関東経済産業局委託事業） 共催：株式会社日本政策金融公庫千葉支店／南関東創業支援センター\n\n\n\n講師紹介\n\n\n\n\n\n\n竹内　久貴（たけうち　ひさたか）\n中小企業診断士、事業承継士、AFP、ウェブ解析士\n \n\n\n\n\n\n\n\n\n【経歴】大手流通グループの小売業、サービス業において法人営業、人材育成、新規事業立上げ等に従事。2024年に経営コンサルタントとして独立し、顧問先7社、公的機関の専門家派遣・相談孫口、補助金申請支援、専門学校講師等の業務に従事。自らも事業を立上げ、融資を受けるなど事業者側の立場を理解する為に奮闘中。\n\n\n\n\n\n\n\n\n\n\n\n\n\n\n\n\n\n\n\n\n\n申込・問い合わせ\n\n\n\n必要事項をご記入の上、下記よりお申し込みください。 参加決定の返信がない場合、お手数ですがお電話での確認をお願いいたします。
URL:https://chibayorozu.go.jp/event/250822am/
LOCATION:千葉県よろず支援拠点\, 美浜区中瀬2-6-1\, 千葉市\, 千葉県\, 261-7123\, 日本
ORGANIZER;CN="%E5%8D%83%E8%91%89%E7%9C%8C%E3%82%88%E3%82%8D%E3%81%9A%E6%94%AF%E6%8F%B4%E6%8B%A0%E7%82%B9":MAILTO:seminarentry@chibayorozu.go.jp
END:VEVENT
END:VCALENDAR