BEGIN:VCALENDAR
VERSION:2.0
PRODID:-//千葉県よろず支援拠点・公式サイト - ECPv6.15.17.1//NONSGML v1.0//EN
CALSCALE:GREGORIAN
METHOD:PUBLISH
X-WR-CALNAME:千葉県よろず支援拠点・公式サイト
X-ORIGINAL-URL:https://chibayorozu.go.jp
X-WR-CALDESC:千葉県よろず支援拠点・公式サイト のイベント
REFRESH-INTERVAL;VALUE=DURATION:PT1H
X-Robots-Tag:noindex
X-PUBLISHED-TTL:PT1H
BEGIN:VTIMEZONE
TZID:Asia/Tokyo
BEGIN:STANDARD
TZOFFSETFROM:+0900
TZOFFSETTO:+0900
TZNAME:JST
DTSTART:20240101T000000
END:STANDARD
END:VTIMEZONE
BEGIN:VEVENT
DTSTART;TZID=Asia/Tokyo:20250718T140000
DTEND;TZID=Asia/Tokyo:20250718T160000
DTSTAMP:20260421T050138
CREATED:20250528T001015Z
LAST-MODIFIED:20250528T001015Z
UID:10920-1752847200-1752854400@chibayorozu.go.jp
SUMMARY:作業の「手数」を断捨離してみよう！
DESCRIPTION:ビジネスの現場で、「やるべきことが多すぎて時間が足りない」「効率化したいけれど、どこから手をつけていいかわからない」と悩んだことはありませんか？\nこのセミナーでは、作業の「手数」に着目し、不要な手順や重複作業を洗い出して排除する方法を学びます。科学的アプローチと実践的なフレームワークを活用して、作業プロセスを可視化し、無駄を削ぎ落とす具体的なステップを紹介します。\nセミナーの内容は、日常業務を例にしたワークショップ形式で進行するため、すぐに職場で実践可能です。また、効率化を図るだけでなく、結果的に生まれた時間をどう活用するかについても考える機会を提供します。\n効率化と生産性向上を目指すすべての方に、おすすめのセミナーです。業務の負担を軽減し、時間を生み出すための第一歩を、ぜひこのセミナーで踏み出してください！\n\n\n\n\n\n\n\n\n\n開催概要\n\n\n\n\n\n\n開催日時\n2025年7月18日（金）14:00～16:00（受付13:45～）\n\n\n開催場所\n （公財）千葉県産業振興センター 千葉県よろず支援拠点　千葉市美浜区中瀬2-6-1 WBGマリブイースト23F (Google map)\n\n\n対象者\n中小企業、小規模事業者\n\n\n募集人数\n6名（先着順締め切り）\n\n\n参加費\n無料\n\n\n当日ご用意いただくもの\n特になし\n\n\n主催・共催\n主催：公益財団法人千葉県産業振興センター 千葉県よろず支援拠点（経済産業省関東経済産業局委託事業） 共催：株式会社日本政策金融公庫千葉支店／南関東創業支援センター\n\n\n\n講師紹介\n\n\n\n\n\n\n篠田　正行（しのだ　まさゆき）\n中小企業診断士、IEプロフェショナル、戦略的基盤技術高度化支援事業アドバイザー、周辺視目視検査協議会副会長\n \n\n\n\n\n\n\n\n\n【経歴】大手製造会社で、製造・技術開発・事業運営や、IE（Industrial Engineering 仕事の生産性を向上させる技術）を導入し、「強い拠点作り」をグローバルに実行（IE文献賞を受賞）してきました。その後、独立。小規模・中小の製造業やサービス業で、仕事の生産性向上を多数支援。また、新製品の企画から上市まで支援する戦略的基盤技術高度化支援事業アドバイザーや、目視検査を疲労が少なく検査制度・検査効率を飛躍的に向上させる「大学と企業からなる周辺視目視検査協議会」の副会長をしております。\n\n\n\n\n\n\n\n\n\n\n\n\n\n\n\n\n\n\n\n\n\n申込・問い合わせ\n\n\n\n必要事項をご記入の上、下記よりお申し込みください。 参加決定の返信がない場合、お手数ですがお電話での確認をお願いいたします。\n\n  \n\n\n\n参加者情報\n\n 参加希望日・セミナー名\n2025年7月18日（金）14:00 作業の「手数」を断捨離してみよう！\n \n■氏名【必須】\n \n \n■氏名（フリガナ）【必須】\n \n \n■性別【必須】\n—以下から選択してください—男性女性回答しない \n \n■年齢【必須】\n—以下から選択してください—29歳以下30歳代40歳代50歳代60歳以上回答しない \n \n■部署\n \n \n■役職【必須】\n—以下から選択してください—代表者役員管理職一般社員その他 \n \n■電話番号【必須】\n\n \n■メールアドレス【必須】\n \n \n事業者情報\n\n■事業者名（法人）・屋号（個人）【必須】\n \n \n■事業者名（法人）・屋号（個人）（フリガナ）【必須】\n \n \n■代表者氏名【必須】\n \n \n■代表者氏名（フリガナ）【必須】\n \n \n■会社形態【必須】\n—以下から選択してください—法人個人事業主創業前 \n \n■法人番号 (法人の場合)\n \n \n■郵便番号【必須】\n \n \n■住所【必須】\n \n \n■代表電話番号【必須】\n\n \n■代表ホームページURL\n\n \n■代表メールアドレス【必須】\n \n \n■創業時期（年）【必須】\n 年\n※「創業前」のかたは、創業予定年月を記入してください\n \n■創業時期（月）【必須】\n—以下から選択してください—1月2月3月4月5月6月7月8月9月10月11月12月\n \n■主要事業・製品【必須】\n\n \n■資本金 (法人の場合)（実数／円）\n 円\n※単位は円となります。（300万円 → 3000000 と記入）\n \n■売上高（実数／円）【必須】\n 円\n※直近年度のものを、おおよそで構いません。単位は円となります。（1000万円 → 10000000 と記入）\n \n■従業員数（実数／名）【必須】\n 名\n \n■業種大分類【必須】\n—以下から選択してください—A.農業，林業B.漁業C.鉱業，採石業，砂利採取業D.建設業E.製造業F.電気・ガス・熱供給・水道業G.情報通信業H.運輸業，郵便業I.卸売業・小売業J.金融業・保険業K.不動産業，物品賃貸業L.学術研究，専門・技術サービス業M.宿泊業，飲食サービス業N.生活関連サービス業，娯楽業O.教育，学習支援業P.医療，福祉Q.複合サービス事業R.サービス業（他に分類されないもの）S.公務（他に分類されるものを除く）T.分類不能の産業\n \nアンケートにご協力ください\n\n■よろず支援拠点をどこでお知りになられましたか【必須】\n検索（Google・yahoo!等）ホームページ（行政・銀行等）ホームページ（地域メディア等）FacebookInstagramメルマガDMチラシ知人の紹介機関の紹介以前利用したことがある\n \n■紹介された機関名（○○銀行○○支店、○○商工会議所、○○市役所○○課、等）または、お知りになられた媒体（ホームページ名、SNSアカウント名、等）について、具体的にご記入ください【必須】\n\n \n セミナー参加の動機やご質問など (必須)\n\n \n以下、ご承諾いただきチェックをつけてください。\n \n個人情報保護方針に承諾する(必須)\n留意事項に承諾する(必須)\n \n\n Δ \n\n\n\n\n 
URL:https://chibayorozu.go.jp/event/250718pm/
LOCATION:千葉県よろず支援拠点\, 美浜区中瀬2-6-1\, 千葉市\, 千葉県\, 261-7123\, 日本
ORGANIZER;CN="%E5%8D%83%E8%91%89%E7%9C%8C%E3%82%88%E3%82%8D%E3%81%9A%E6%94%AF%E6%8F%B4%E6%8B%A0%E7%82%B9":MAILTO:seminarentry@chibayorozu.go.jp
END:VEVENT
END:VCALENDAR