BEGIN:VCALENDAR
VERSION:2.0
PRODID:-//千葉県よろず支援拠点・公式サイト - ECPv6.15.17.1//NONSGML v1.0//EN
CALSCALE:GREGORIAN
METHOD:PUBLISH
X-ORIGINAL-URL:https://chibayorozu.go.jp
X-WR-CALDESC:千葉県よろず支援拠点・公式サイト のイベント
REFRESH-INTERVAL;VALUE=DURATION:PT1H
X-Robots-Tag:noindex
X-PUBLISHED-TTL:PT1H
BEGIN:VTIMEZONE
TZID:Asia/Tokyo
BEGIN:STANDARD
TZOFFSETFROM:+0900
TZOFFSETTO:+0900
TZNAME:JST
DTSTART:20240101T000000
END:STANDARD
END:VTIMEZONE
BEGIN:VEVENT
DTSTART;TZID=Asia/Tokyo:20250710T100000
DTEND;TZID=Asia/Tokyo:20250710T120000
DTSTAMP:20260421T050224
CREATED:20250528T000833Z
LAST-MODIFIED:20250626T075312Z
UID:10912-1752141600-1752148800@chibayorozu.go.jp
SUMMARY:【満員御礼】ネタ切れしないSNS運営会議
DESCRIPTION:各参加者の「SNS運用が辛い原因」を共有し、解決策を検討します。\n１．アイデアの引き出しを広げる方法\n普段の生活でコンテンツ化するためのコツをご紹介。\n2．投稿計画と効率化\n自動化ツールやテンプレートを活用した負担軽減のポイントをお伝えします。\n3．フォロワーに届く内容のコツ\n投稿アイデアを設計し、いいね獲得フォロワー獲得を目指す方法を共有します。\n「SNS運用に迷いがある」「限られた時間で効率的にSNS運用したい」と考えている方におすすめです。\n\n\n\n\n\n\n\n\n\n開催概要\n\n\n\n\n\n\n開催日時\n2025年7月10日（木）10:00～12:00（受付9:45～）\n\n\n開催場所\n（公財）千葉県産業振興センター 千葉県よろず支援拠点　千葉市美浜区中瀬2-6-1 WBGマリブイースト23F (Google map)\n\n\n対象者\n中小企業、小規模事業者\n\n\n募集人数\n6名（先着順締め切り）\n\n\n参加費\n無料\n\n\n当日ご用意いただくもの\n特になし\n\n\n主催・共催\n主催：公益財団法人千葉県産業振興センター 千葉県よろず支援拠点（経済産業省関東経済産業局委託事業） 共催：株式会社日本政策金融公庫千葉支店／南関東創業支援センター\n\n\n\n講師紹介\n\n\n\n\n\n\n相田　悟（あいだ　さとる）\nデザイナー\n \n\n\n\n\n\n\n\n\n【経歴】建築・設備・施行会社にて企画、デザイン、制作ディレクションに従事した後、独立。グラフィックデザイン、Webデザイン、プロダクトデザインを組み合わせた編集・セールスプロモーション企画に強みを有しており、複合的な観点からデザインを役立てるべく活動している。\n\n\n\n\n\n\n\n\n\n\n\n\n\n\n\n\n\n\n\n\n\n申込・問い合わせ\n\n\n\n必要事項をご記入の上、下記よりお申し込みください。参加決定の返信がない場合、お手数ですがお電話での確認をお願いいたします。 \n\n 
URL:https://chibayorozu.go.jp/event/250710am/
LOCATION:千葉県よろず支援拠点\, 美浜区中瀬2-6-1\, 千葉市\, 千葉県\, 261-7123\, 日本
ORGANIZER;CN="%E5%8D%83%E8%91%89%E7%9C%8C%E3%82%88%E3%82%8D%E3%81%9A%E6%94%AF%E6%8F%B4%E6%8B%A0%E7%82%B9":MAILTO:seminarentry@chibayorozu.go.jp
END:VEVENT
END:VCALENDAR