BEGIN:VCALENDAR
VERSION:2.0
PRODID:-//千葉県よろず支援拠点・公式サイト - ECPv6.15.17.1//NONSGML v1.0//EN
CALSCALE:GREGORIAN
METHOD:PUBLISH
X-WR-CALNAME:千葉県よろず支援拠点・公式サイト
X-ORIGINAL-URL:https://chibayorozu.go.jp
X-WR-CALDESC:千葉県よろず支援拠点・公式サイト のイベント
REFRESH-INTERVAL;VALUE=DURATION:PT1H
X-Robots-Tag:noindex
X-PUBLISHED-TTL:PT1H
BEGIN:VTIMEZONE
TZID:Asia/Tokyo
BEGIN:STANDARD
TZOFFSETFROM:+0900
TZOFFSETTO:+0900
TZNAME:JST
DTSTART:20240101T000000
END:STANDARD
END:VTIMEZONE
BEGIN:VEVENT
DTSTART;TZID=Asia/Tokyo:20250520T100000
DTEND;TZID=Asia/Tokyo:20250520T120000
DTSTAMP:20260421T013605
CREATED:20250328T004945Z
LAST-MODIFIED:20250508T034915Z
UID:10732-1747735200-1747742400@chibayorozu.go.jp
SUMMARY:【満員御礼】個人事業主の税金入門（所得税から消費税インボイス制度まで）
DESCRIPTION:開業したら必ずやらなければいけないことが、税金の確定申告の手続きです。\n所得税から消費税インボイス制度などの税金の基礎知識を事前に学んで不安を解消しておきましょう。\nご質問等に対しても、その場で回答いたしますので、是非、ご参加ください。\n\n\n\n\n\n\n\n開催概要\n\n\n\n\n\n\n開催日時\n2025年5月20日（火）10:00～12:00（受付9:45～）\n\n\n開催場所\n（公財）千葉県産業振興センター 千葉県よろず支援拠点　千葉市美浜区中瀬2-6-1 WBGマリブイースト23F (Google map)\n\n\n対象者\n中小企業、小規模事業者、創業希望者\n\n\n募集人数\n6名（先着順締め切り）\n\n\n参加費\n無料\n\n\n当日ご用意いただくもの\n特になし\n\n\n主催・共催\n主催：公益財団法人千葉県産業振興センター 千葉県よろず支援拠点（経済産業省関東経済産業局委託事業） 共催：株式会社日本政策金融公庫千葉支店／南関東創業支援センター\n\n\n\n講師紹介\n\n\n\n\n\n\n大橋 弘明（おおはし　ひろあき）\n税理士、中小企業診断士\n \n\n\n\n\n\n\n\n\n【経歴】平成20年税理士登録。地方銀行、会計事務所、税理士法人を経て、令和2年に東京都中央区京橋で税理士事務所を独立開業。中小企業や個人事業主を中心に税務支援を行っている。著書に、「サラリーマンの副業の税金が全部わかる本（自由国民社）」がある。\n\n\n\n\n\n\n\n\n\n\n\n\n\n\n\n\n\n\n\n\n\n申込・問い合わせ\n\n\n\n必要事項をご記入の上、下記よりお申し込みください。 参加決定の返信がない場合、お手数ですがお電話での確認をお願いいたします。
URL:https://chibayorozu.go.jp/event/250520am/
LOCATION:千葉県よろず支援拠点\, 美浜区中瀬2-6-1\, 千葉市\, 千葉県\, 261-7123\, 日本
ORGANIZER;CN="%E5%8D%83%E8%91%89%E7%9C%8C%E3%82%88%E3%82%8D%E3%81%9A%E6%94%AF%E6%8F%B4%E6%8B%A0%E7%82%B9":MAILTO:seminarentry@chibayorozu.go.jp
END:VEVENT
END:VCALENDAR