BEGIN:VCALENDAR
VERSION:2.0
PRODID:-//千葉県よろず支援拠点・公式サイト - ECPv6.15.17.1//NONSGML v1.0//EN
CALSCALE:GREGORIAN
METHOD:PUBLISH
X-ORIGINAL-URL:https://chibayorozu.go.jp
X-WR-CALDESC:千葉県よろず支援拠点・公式サイト のイベント
REFRESH-INTERVAL;VALUE=DURATION:PT1H
X-Robots-Tag:noindex
X-PUBLISHED-TTL:PT1H
BEGIN:VTIMEZONE
TZID:Asia/Tokyo
BEGIN:STANDARD
TZOFFSETFROM:+0900
TZOFFSETTO:+0900
TZNAME:JST
DTSTART:20240101T000000
END:STANDARD
END:VTIMEZONE
BEGIN:VEVENT
DTSTART;TZID=Asia/Tokyo:20250515T100000
DTEND;TZID=Asia/Tokyo:20250515T120000
DTSTAMP:20260421T013742
CREATED:20250328T004841Z
LAST-MODIFIED:20250328T004841Z
UID:10724-1747303200-1747310400@chibayorozu.go.jp
SUMMARY:ハンドメイドビジネスで月商10万円を目指す～事業の見直し編～
DESCRIPTION:既にハンドメイド作家として活動している方が、さらなる売上アップを目指すためのセミナーです。事業見直し編では、これまでの活動を振り返り、演習を通じて、良い点や 改善が必要な点を洗い出した上で、月商10万円を達成するために必要なアクションを明らかにしていきます。\n事業見直し編、集客・販促編の連続受講をお勧めします（単発受講でもOKです）。\n【主な対象者】\n・ハンドメイド作家で、月10万円以上の売上を目指している方\n・既にオリジナル商品を持ち、販売経験がある方\n・商品つくりはできるが、売上に結び付かないと感じている方\n・概ね1年以上、ハンドメイド作家として活動している方\nなど\n【内容(仮)】\n・活動の振り返り ・商品と値付けの関係 ・売上を積み上げるコツ\nなど\n内容は変更する場合がございます。\n\n開催概要\n\n\n\n\n\n\n開催日時\n2025年5月15日（木）10:00～12:00（受9：45～）\n\n\n開催場所\n（公財）千葉県産業振興センター 千葉県よろず支援拠点　千葉市美浜区中瀬2-6-1 WBGマリブイースト23F (Google map)\n\n\n対象者\n中小企業・小規模事業者\n\n\n募集人数\n6名（先着順締め切り）\n\n\n参加費\n無料\n\n\n当日の持ち物\n特になし\n\n\n主催・共催\n主催：公益財団法人千葉県産業振興センター 千葉県よろず支援拠点（経済産業省関東経済産業局委託事業） 共催：株式会社日本政策金融公庫千葉支店／南関東創業支援センター\n\n\n\n講師紹介\n\n小沼 梨沙（おぬま りさ）　 \n中小企業診断士・経営管理修士(MBA)・管理栄養士\n \n【経歴】大手宅配会社にて治療食（糖尿病、腎臓病）開発や栄養相談業務を行う。医療情報系企業で事業開発、コンサルティング業務に従事した後、2012年に「食と栄養」専門の経営コンサルティング事務所LotusTableを設立する。現在は、業種・地域を問わず経営コンサルティングや人材育成を行っている。小売店（アパレルショップ、雑貨店、サロン等）、飲食店における店舗マネジメント、接客・販売研修での登壇実績も多数。\n\n申込・問い合わせ\n必要事項をご記入の上、下記よりお申し込みください。 参加決定の返信がない場合、お手数ですがお電話での確認をお願いいたします。\n\n  \n\n\n\n参加者情報\n\n 参加希望日・セミナー名\n2025年5月15日（木）10:00 ハンドメイドビジネスで月商10万円を目指す～事業の見直し編～\n \n■氏名【必須】\n \n \n■氏名（フリガナ）【必須】\n \n \n■性別【必須】\n—以下から選択してください—男性女性回答しない \n \n■年齢【必須】\n—以下から選択してください—29歳以下30歳代40歳代50歳代60歳以上回答しない \n \n■部署\n \n \n■役職【必須】\n—以下から選択してください—代表者役員管理職一般社員その他 \n \n■電話番号【必須】\n\n \n■メールアドレス【必須】\n \n \n事業者情報\n\n■事業者名（法人）・屋号（個人）【必須】\n \n \n■事業者名（法人）・屋号（個人）（フリガナ）【必須】\n \n \n■代表者氏名【必須】\n \n \n■代表者氏名（フリガナ）【必須】\n \n \n■会社形態【必須】\n—以下から選択してください—法人個人事業主創業前 \n \n■法人番号 (法人の場合)\n \n \n■郵便番号【必須】\n \n \n■住所【必須】\n \n \n■代表電話番号【必須】\n\n \n■代表ホームページURL\n\n \n■代表メールアドレス【必須】\n \n \n■創業時期（年）【必須】\n 年\n※「創業前」のかたは、創業予定年月を記入してください\n \n■創業時期（月）【必須】\n—以下から選択してください—1月2月3月4月5月6月7月8月9月10月11月12月\n \n■主要事業・製品【必須】\n\n \n■資本金 (法人の場合)（実数／円）\n 円\n※単位は円となります。（300万円 → 3000000 と記入）\n \n■売上高（実数／円）【必須】\n 円\n※直近年度のものを、おおよそで構いません。単位は円となります。（1000万円 → 10000000 と記入）\n \n■従業員数（実数／名）【必須】\n 名\n \n■業種大分類【必須】\n—以下から選択してください—A.農業，林業B.漁業C.鉱業，採石業，砂利採取業D.建設業E.製造業F.電気・ガス・熱供給・水道業G.情報通信業H.運輸業，郵便業I.卸売業・小売業J.金融業・保険業K.不動産業，物品賃貸業L.学術研究，専門・技術サービス業M.宿泊業，飲食サービス業N.生活関連サービス業，娯楽業O.教育，学習支援業P.医療，福祉Q.複合サービス事業R.サービス業（他に分類されないもの）S.公務（他に分類されるものを除く）T.分類不能の産業\n \nアンケートにご協力ください\n\n■よろず支援拠点をどこでお知りになられましたか【必須】\n検索（Google・yahoo!等）ホームページ（行政・銀行等）ホームページ（地域メディア等）FacebookInstagramメルマガDMチラシ知人の紹介機関の紹介以前利用したことがある\n \n■紹介された機関名（○○銀行○○支店、○○商工会議所、○○市役所○○課、等）または、お知りになられた媒体（ホームページ名、SNSアカウント名、等）について、具体的にご記入ください【必須】\n\n \n セミナー参加の動機やご質問など (必須)\n\n \n以下、ご承諾いただきチェックをつけてください。\n \n個人情報保護方針に承諾する(必須)\n留意事項に承諾する(必須)\n \n\n Δ
URL:https://chibayorozu.go.jp/event/250515am/
LOCATION:千葉県よろず支援拠点\, 美浜区中瀬2-6-1\, 千葉市\, 千葉県\, 261-7123\, 日本
ORGANIZER;CN="%E5%8D%83%E8%91%89%E7%9C%8C%E3%82%88%E3%82%8D%E3%81%9A%E6%94%AF%E6%8F%B4%E6%8B%A0%E7%82%B9":MAILTO:seminarentry@chibayorozu.go.jp
END:VEVENT
BEGIN:VEVENT
DTSTART;TZID=Asia/Tokyo:20250515T140000
DTEND;TZID=Asia/Tokyo:20250515T160000
DTSTAMP:20260421T013742
CREATED:20250328T004911Z
LAST-MODIFIED:20250328T004911Z
UID:10726-1747317600-1747324800@chibayorozu.go.jp
SUMMARY:ハンドメイドビジネスで月商10万円を目指す～集客・販促編～
DESCRIPTION:既にハンドメイド作家として活動している方が、さらなる売上アップを目指すためのセミナーです。事業見直し編、集客・販促編の連続受講をお勧めします（単発受講でもOKです）。\n【主な対象者】\n・ハンドメイド作家で、月10万円以上の売上を目指している方\n・既にオリジナル商品を持ち、販売経験がある方\n・商品つくりはできるが、売上に結び付かないと感じている方\n・概ね1年以上、ハンドメイド作家として活動している方\nほか\n【内容(仮)】\n・売れっ子作家の事例から学ぶ販促術\n・ターゲットを明確にしよう\n・ハンドメイド作家向け集客戦略\n・SNSを活用して成果につなげよう\nなど\n※内容は変更する場合がございます。\n\n\n\n\n\n\n\n開催概要\n\n\n\n\n\n\n開催日時\n2025年5月15日（木）14:00～16:00（受付13：45～）\n\n\n開催場所\n（公財）千葉県産業振興センター　よろず支援拠点 千葉市美浜区中瀬2-6-1　WBGマリブイースト23F (Google map)\n\n\n対象者\n中小企業、小規模事業者\n\n\n募集人数\n6名（先着順締め切り）\n\n\n参加費\n無料\n\n\n当日ご用意いただくもの\nInstagramアプリがインストールされたスマホ（スマホにInstagramが入っていない場合、インストールしてきてください。セミナー当日の演習で使います。）\n\n\n主催・共催\n主催：公益財団法人千葉県産業振興センター 千葉県よろず支援拠点（経済産業省関東経済産業局委託事業） 共催：株式会社日本政策金融公庫千葉支店／南関東創業支援センター\n\n\n\n講師紹介\n\n志鎌　真奈美（しかま　まなみ） \nチーフSNSマネージャー・ウェブ解析士\n \n\n\n\n\n\n\n\n\n【経歴】北海道函館市生まれ。北海道教育大学函館校卒業。\n1997年よりWeb制作を始める。ソフトウェア会社のWeb制作部門に5年間勤めた後、2002年4月に独立。Web制作・企画、システム構築などに従事。講師として、Webマーケティングやデザインのセミナー活動も行っている。\n著書に『無料で始めるネットショップ 作成&運営&集客がぜんぶわかる! 』、『WebデザイナーのためのJimdoスタイルブック』（共著、マイナビ））、『いますぐはじめるWeb文章の「書き方」入門教室』 （技術評論社）がある。\n\n\n\n\n\n\n\n\n\n\n\n\n\n\n\n\n\n申込・問い合わせ\n\n\n\n必要事項をご記入の上、下記よりお申し込みください。 参加決定の返信がない場合、お手数ですがお電話での確認をお願いいたします。\n\n  \n\n\n\n参加者情報\n\n 参加希望日・セミナー名\n2025年5月15日（木）14:00 ハンドメイドビジネスで月商10万円を目指す～集客・販促編～\n \n■氏名【必須】\n \n \n■氏名（フリガナ）【必須】\n \n \n■性別【必須】\n—以下から選択してください—男性女性回答しない \n \n■年齢【必須】\n—以下から選択してください—29歳以下30歳代40歳代50歳代60歳以上回答しない \n \n■部署\n \n \n■役職【必須】\n—以下から選択してください—代表者役員管理職一般社員その他 \n \n■電話番号【必須】\n\n \n■メールアドレス【必須】\n \n \n事業者情報\n\n■事業者名（法人）・屋号（個人）【必須】\n \n \n■事業者名（法人）・屋号（個人）（フリガナ）【必須】\n \n \n■代表者氏名【必須】\n \n \n■代表者氏名（フリガナ）【必須】\n \n \n■会社形態【必須】\n—以下から選択してください—法人個人事業主創業前 \n \n■法人番号 (法人の場合)\n \n \n■郵便番号【必須】\n \n \n■住所【必須】\n \n \n■代表電話番号【必須】\n\n \n■代表ホームページURL\n\n \n■代表メールアドレス【必須】\n \n \n■創業時期（年）【必須】\n 年\n※「創業前」のかたは、創業予定年月を記入してください\n \n■創業時期（月）【必須】\n—以下から選択してください—1月2月3月4月5月6月7月8月9月10月11月12月\n \n■主要事業・製品【必須】\n\n \n■資本金 (法人の場合)（実数／円）\n 円\n※単位は円となります。（300万円 → 3000000 と記入）\n \n■売上高（実数／円）【必須】\n 円\n※直近年度のものを、おおよそで構いません。単位は円となります。（1000万円 → 10000000 と記入）\n \n■従業員数（実数／名）【必須】\n 名\n \n■業種大分類【必須】\n—以下から選択してください—A.農業，林業B.漁業C.鉱業，採石業，砂利採取業D.建設業E.製造業F.電気・ガス・熱供給・水道業G.情報通信業H.運輸業，郵便業I.卸売業・小売業J.金融業・保険業K.不動産業，物品賃貸業L.学術研究，専門・技術サービス業M.宿泊業，飲食サービス業N.生活関連サービス業，娯楽業O.教育，学習支援業P.医療，福祉Q.複合サービス事業R.サービス業（他に分類されないもの）S.公務（他に分類されるものを除く）T.分類不能の産業\n \nアンケートにご協力ください\n\n■よろず支援拠点をどこでお知りになられましたか【必須】\n検索（Google・yahoo!等）ホームページ（行政・銀行等）ホームページ（地域メディア等）FacebookInstagramメルマガDMチラシ知人の紹介機関の紹介以前利用したことがある\n \n■紹介された機関名（○○銀行○○支店、○○商工会議所、○○市役所○○課、等）または、お知りになられた媒体（ホームページ名、SNSアカウント名、等）について、具体的にご記入ください【必須】\n\n \n セミナー参加の動機やご質問など (必須)\n\n \n以下、ご承諾いただきチェックをつけてください。\n \n個人情報保護方針に承諾する(必須)\n留意事項に承諾する(必須)\n \n\n Δ \n\n\n\n\n 
URL:https://chibayorozu.go.jp/event/250515pm/
LOCATION:千葉県よろず支援拠点\, 美浜区中瀬2-6-1\, 千葉市\, 千葉県\, 261-7123\, 日本
ORGANIZER;CN="%E5%8D%83%E8%91%89%E7%9C%8C%E3%82%88%E3%82%8D%E3%81%9A%E6%94%AF%E6%8F%B4%E6%8B%A0%E7%82%B9":MAILTO:seminarentry@chibayorozu.go.jp
END:VEVENT
END:VCALENDAR