BEGIN:VCALENDAR
VERSION:2.0
PRODID:-//千葉県よろず支援拠点・公式サイト - ECPv6.15.17.1//NONSGML v1.0//EN
CALSCALE:GREGORIAN
METHOD:PUBLISH
X-ORIGINAL-URL:https://chibayorozu.go.jp
X-WR-CALDESC:千葉県よろず支援拠点・公式サイト のイベント
REFRESH-INTERVAL;VALUE=DURATION:PT1H
X-Robots-Tag:noindex
X-PUBLISHED-TTL:PT1H
BEGIN:VTIMEZONE
TZID:Asia/Tokyo
BEGIN:STANDARD
TZOFFSETFROM:+0900
TZOFFSETTO:+0900
TZNAME:JST
DTSTART:20240101T000000
END:STANDARD
END:VTIMEZONE
BEGIN:VEVENT
DTSTART;TZID=Asia/Tokyo:20250129T100000
DTEND;TZID=Asia/Tokyo:20250129T120000
DTSTAMP:20260420T205621
CREATED:20241127T024510Z
LAST-MODIFIED:20250123T022752Z
UID:10448-1738144800-1738152000@chibayorozu.go.jp
SUMMARY:【満員御礼】【web開催】どの補助金が活用できる？調べ方から申請まで
DESCRIPTION:国・県・市町村は企業の事業展開を支援するために、様々な補助金を予算化しています。\n補助金は募集開始から締切まで約1ヶ月と期間が短いことが多く、\n公募に気付いてから申請準備をスタートするのでは時間が足りません。\nこのセミナーではワークシートを使って、販路開拓、新商品・技術開発、設備導入、ＩＴ導入や従業員採用など、\nこの先3年間の事業見通しを洗い出します。\n・初めてだけど補助金/助成金を活用したい\n・前回は不採択だったので次の補助金は活用したい\n・前回準備不足で大変だった\nその上で作成したワークシートと補助金の公募情報を照らし合わせることにより、\n余裕を持った補助金申請の準備を進めることを目標とします。\n\n開催概要\n\n\n\n\n\n\n開催日時\n2025年1月29日（水）10:00～12:00（受付9：55～）\n\n\n開催場所\nWeb開催\n\n\n対象者\n中小企業・小規模事業者\n\n\n募集人数\n8名（申込先着順）\n\n\n参加費\n無料\n\n\n当日の持ち物\n特になし\n\n\n主催・共催\n主催：公益財団法人千葉県産業振興センター 千葉県よろず支援拠点（経済産業省関東経済産業局委託事業） 共催：株式会社日本政策金融公庫千葉支店／南関東創業支援センター\n\n\n\n講師紹介\n\n平賀 千晴（ひらが ちはる） \n中小企業診断士、ITストラテジスト\n \n【経歴】民間企業の人事総務、経理、情報システムなどの管理部門でキャリアを重ね、中小企業診断士として独立。経営相談の他に補助金申請支援や執筆活動を行っている。 人事総務・経理関連のITを活用した業務効率化・生産性向上支援から、Webマーケティングを活用した販売力強化など幅広くアドバイスを行っている。\n\n申込・問い合わせ\n\n\n\n必要事項をご記入の上、下記よりお申し込みください。 参加決定の返信がない場合、お手数ですがお電話での確認をお願いいたします。
URL:https://chibayorozu.go.jp/event/250129am/
LOCATION:Web開催
ORGANIZER;CN="%E5%8D%83%E8%91%89%E7%9C%8C%E3%82%88%E3%82%8D%E3%81%9A%E6%94%AF%E6%8F%B4%E6%8B%A0%E7%82%B9":MAILTO:seminarentry@chibayorozu.go.jp
END:VEVENT
BEGIN:VEVENT
DTSTART;TZID=Asia/Tokyo:20250129T140000
DTEND;TZID=Asia/Tokyo:20250129T160000
DTSTAMP:20260420T205621
CREATED:20241127T024527Z
LAST-MODIFIED:20241127T024527Z
UID:10450-1738159200-1738166400@chibayorozu.go.jp
SUMMARY:よろずcafe
DESCRIPTION:【創業したい　ぼんやり思っている方　実際に話をしよう、聞いてみよう】 \n自分に事業なんかできるのかな \n始められるかな？ \n続けられるかな？ \nこんなご相談はよろず支援拠点で受け付けます。 \n具体的に何から始めていいか分からない方 \nどこに？誰に？相談していいか分からない方 \n自分だけで考えていても、近親者に聞きづらいことでも、分からないことが増えてきたら、よろずCafeでお話ししてみませんか。一歩先に進むお手伝いをさせていただきます。 \n\n\n\n\n\n開催概要\n\n\n\n\n\n\n開催日時\n2025年1月29日（水）14:00～16:00（受付13：45～）\n\n\n開催場所\n（公財）千葉県産業振興センター　よろず支援拠点 千葉市美浜区中瀬2-6-1　WBGマリブイースト23F (Google map)\n\n\n対象者\n創業希望者、中小企業、小規模事業者\n\n\n募集人数\n6名（先着順締め切り）\n\n\n参加費\n無料\n\n\n当日の持ち物\n特になし\n\n\n主催・共催\n主催：公益財団法人千葉県産業振興センター 千葉県よろず支援拠点（経済産業省関東経済産業局委託事業） 共催：株式会社日本政策金融公庫千葉支店／南関東創業支援センター\n\n\n\n講師紹介\n\n\n平賀 千晴（ひらが ちはる）\n\n\n\n\n\n\n\n中小企業診断士、ITストラテジスト\n \n【経歴】民間企業の人事総務、経理、情報システムなどの管理部門でキャリアを重ね、中小企業診断士として独立。経営相談の他に補助金申請支援や執筆活動を行っている。人事総務・経理関連のITを活用した業務効率化・生産性向上支援から、Webマーケティングを活用した販売力強化など幅広くアドバイスを行っている。\n\n\n\n\n\n\n\n\n\n\n申込・問い合わせ\n\n\n\n必要事項をご記入の上、下記よりお申し込みください。 参加決定の返信がない場合、お手数ですがお電話での確認をお願いいたします。エラー: コンタクトフォームが見つかりません。
URL:https://chibayorozu.go.jp/event/250129pm/
LOCATION:千葉県よろず支援拠点\, 美浜区中瀬2-6-1\, 千葉市\, 千葉県\, 261-7123\, 日本
ORGANIZER;CN="%E5%8D%83%E8%91%89%E7%9C%8C%E3%82%88%E3%82%8D%E3%81%9A%E6%94%AF%E6%8F%B4%E6%8B%A0%E7%82%B9":MAILTO:seminarentry@chibayorozu.go.jp
END:VEVENT
END:VCALENDAR