BEGIN:VCALENDAR
VERSION:2.0
PRODID:-//千葉県よろず支援拠点・公式サイト - ECPv6.15.17.1//NONSGML v1.0//EN
CALSCALE:GREGORIAN
METHOD:PUBLISH
X-WR-CALNAME:千葉県よろず支援拠点・公式サイト
X-ORIGINAL-URL:https://chibayorozu.go.jp
X-WR-CALDESC:千葉県よろず支援拠点・公式サイト のイベント
REFRESH-INTERVAL;VALUE=DURATION:PT1H
X-Robots-Tag:noindex
X-PUBLISHED-TTL:PT1H
BEGIN:VTIMEZONE
TZID:Asia/Tokyo
BEGIN:STANDARD
TZOFFSETFROM:+0900
TZOFFSETTO:+0900
TZNAME:JST
DTSTART:20240101T000000
END:STANDARD
END:VTIMEZONE
BEGIN:VEVENT
DTSTART;TZID=Asia/Tokyo:20250127T140000
DTEND;TZID=Asia/Tokyo:20250127T160000
DTSTAMP:20260420T205509
CREATED:20241127T024455Z
LAST-MODIFIED:20241127T024455Z
UID:10480-1737986400-1737993600@chibayorozu.go.jp
SUMMARY:実録！コミュニティの作り方と運営方法
DESCRIPTION:『コミュニティって最近よく聞くけど、実際どうやって始めたら良いかわからない』\n『運営手段がわからない』そんな方のために現在コミュニティ運営を行い、そしてその効果を体感している運営実践者が解説をいたします。\n良いコミュニティを運営することは企業・事業を持続的なものにしてくれる可能性を秘めています。\nファンマーケティングや推し活などの取り組みが気になる方にもおすすめです。\nコミュニティスタート前の心掛けや運営の注意もお伝えします。\n\n\n\n\n\n\n\n\n\n開催概要\n\n\n\n\n\n\n開催日時\n2025年1月27日（月）14:00～16:00（受付13:45～）\n\n\n開催場所\n（公財）千葉県産業振興センター 千葉県よろず支援拠点　千葉市美浜区中瀬2-6-1 WBGマリブイースト23F (Google map)\n\n\n対象者\n中小企業、小規模事業者\n\n\n募集人数\n6名（先着順締め切り）\n\n\n参加費\n無料\n\n\n当日ご用意いただくもの\n特になし\n\n\n主催・共催\n主催：公益財団法人千葉県産業振興センター 千葉県よろず支援拠点（経済産業省関東経済産業局委託事業） 共催：株式会社日本政策金融公庫千葉支店／南関東創業支援センター\n\n\n\n講師紹介\n\n\n\n\n\n\n眞鍋　玲（まなべ　れい）\n工業デザイナー\n \n\n\n\n\n\n\n\n\n【経歴】デザイン制作会社、精密機器メーカーで工業製品のデザイン、販促物制作を経験。その後独立し現在は、日本全国の製造業・町工場の製品開発デザイン支援・販路開拓・販売支援に取り組んでいる。千葉県内では地域の事業者と共に、デザイン・ものづくりを通じた地域活性、コミュニティづくりにも勤しんでいる。\n\n\n\n\n\n\n\n\n\n\n\n\n\n\n\n\n\n\n\n\n\n申込・問い合わせ\n\n\n\n必要事項をご記入の上、下記よりお申し込みください。参加決定の返信がない場合、お手数ですがお電話での確認をお願いいたします。エラー: コンタクトフォームが見つかりません。
URL:https://chibayorozu.go.jp/event/250127pm/
LOCATION:千葉県よろず支援拠点\, 美浜区中瀬2-6-1\, 千葉市\, 千葉県\, 261-7123\, 日本
ORGANIZER;CN="%E5%8D%83%E8%91%89%E7%9C%8C%E3%82%88%E3%82%8D%E3%81%9A%E6%94%AF%E6%8F%B4%E6%8B%A0%E7%82%B9":MAILTO:seminarentry@chibayorozu.go.jp
END:VEVENT
END:VCALENDAR