BEGIN:VCALENDAR
VERSION:2.0
PRODID:-//千葉県よろず支援拠点・公式サイト - ECPv6.15.17.1//NONSGML v1.0//EN
CALSCALE:GREGORIAN
METHOD:PUBLISH
X-ORIGINAL-URL:https://chibayorozu.go.jp
X-WR-CALDESC:千葉県よろず支援拠点・公式サイト のイベント
REFRESH-INTERVAL;VALUE=DURATION:PT1H
X-Robots-Tag:noindex
X-PUBLISHED-TTL:PT1H
BEGIN:VTIMEZONE
TZID:Asia/Tokyo
BEGIN:STANDARD
TZOFFSETFROM:+0900
TZOFFSETTO:+0900
TZNAME:JST
DTSTART:20230101T000000
END:STANDARD
END:VTIMEZONE
BEGIN:VEVENT
DTSTART;TZID=Asia/Tokyo:20241210T140000
DTEND;TZID=Asia/Tokyo:20241210T160000
DTSTAMP:20260420T235124
CREATED:20241030T060036Z
LAST-MODIFIED:20241209T080056Z
UID:10368-1733839200-1733846400@chibayorozu.go.jp
SUMMARY:【Web開催】まずは社員10名以上を目指す職場創りとは！？
DESCRIPTION:【対象者】\n・就労条件を見直しを検討している事業者\n・従業員の雇用を前提とした創業予定者　など\n \n【内容】\n・労働をめぐるトラブル\n・採用\n・労働契約と優先関係\n・労働時間・休日・休暇\n・様々な雇用形態\n・労働者派遣と請負\n・ハラスメント\n・労働者災害補償保険\n・服務規律と懲戒処分\n・雇用関係の終了\nなど\n※内容は一部変更する場合がございます。\n\n開催概要\n\n\n\n\n\n\n開催日時\n2024年12月10日（火）14:00～16:00（受13：55～）\n\n\n開催場所\nWeb開催\n\n\n対象者\n中小企業・小規模事業者\n\n\n募集人数\n8名（先着順締め切り）\n\n\n参加費\n無料\n\n\n当日の持ち物\n特になし\n\n\n主催・共催\n主催：公益財団法人千葉県産業振興センター 千葉県よろず支援拠点（経済産業省関東経済産業局委託事業） 共催：株式会社日本政策金融公庫千葉支店／南関東創業支援センター\n\n\n\n講師紹介\n\n木田 仁志（きだ ひとし）　 \n中小企業診断士・社会保険労務士\n \n【経歴】国内大手航空会社で約30年間、人事労務分野の業務に従事。その後、公的経営支援機関にて創業支援、売上拡大、資金繰りなどの窓口相談を実施。2024年２月に社労士及び診断士として独立開業。\n\n申込・問い合わせ\n必要事項をご記入の上、下記よりお申し込みください。参加決定の返信がない場合、お手数ですがお電話での確認をお願いいたします。
URL:https://chibayorozu.go.jp/event/241210pm/
LOCATION:Web開催
ORGANIZER;CN="%E5%8D%83%E8%91%89%E7%9C%8C%E3%82%88%E3%82%8D%E3%81%9A%E6%94%AF%E6%8F%B4%E6%8B%A0%E7%82%B9":MAILTO:seminarentry@chibayorozu.go.jp
END:VEVENT
END:VCALENDAR