BEGIN:VCALENDAR
VERSION:2.0
PRODID:-//千葉県よろず支援拠点・公式サイト - ECPv6.15.17.1//NONSGML v1.0//EN
CALSCALE:GREGORIAN
METHOD:PUBLISH
X-ORIGINAL-URL:https://chibayorozu.go.jp
X-WR-CALDESC:千葉県よろず支援拠点・公式サイト のイベント
REFRESH-INTERVAL;VALUE=DURATION:PT1H
X-Robots-Tag:noindex
X-PUBLISHED-TTL:PT1H
BEGIN:VTIMEZONE
TZID:Asia/Tokyo
BEGIN:STANDARD
TZOFFSETFROM:+0900
TZOFFSETTO:+0900
TZNAME:JST
DTSTART:20230101T000000
END:STANDARD
END:VTIMEZONE
BEGIN:VEVENT
DTSTART;TZID=Asia/Tokyo:20241017T100000
DTEND;TZID=Asia/Tokyo:20241017T120000
DTSTAMP:20260421T195807
CREATED:20240828T000952Z
LAST-MODIFIED:20240828T000952Z
UID:10234-1729159200-1729166400@chibayorozu.go.jp
SUMMARY:入門！事業コンセプトの作り方講座
DESCRIPTION:「コンセプト」が必要なこんな方におすすめ\n・これから創業する方で、コンセプトがまとまらない方\n・何を基準にコンセプトをつくれば良いかわからない方\n・新商品、サービスを開発する方\n他、コンセプト作りに関心がある方\n \n【主な内容】\n・コンセプトとは\n・コンセプトが必要な場面\n・コンセプトを見直した事業事例\nほか\n \n※内容は変更する場合がございます。\n\n開催概要\n\n\n\n\n\n\n開催日時\n2024年10月17日（木）10:00～12:00（受9：45～）\n\n\n開催場所\n（公財）千葉県産業振興センター 千葉県よろず支援拠点　千葉市美浜区中瀬2-6-1 WBGマリブイースト23F (Google map)\n\n\n対象者\n中小企業・小規模事業者\n\n\n募集人数\n6名（先着順締め切り）\n\n\n参加費\n無料\n\n\n当日の持ち物\n特になし\n\n\n主催・共催\n主催：公益財団法人千葉県産業振興センター 千葉県よろず支援拠点（経済産業省関東経済産業局委託事業） 共催：株式会社日本政策金融公庫千葉支店／南関東創業支援センター\n\n\n\n講師紹介\n\n小沼 梨沙（おぬま りさ）　 \n中小企業診断士・経営管理修士(MBA)・管理栄養士\n \n【経歴】大手宅配会社にて治療食（糖尿病、腎臓病）開発や栄養相談業務を行う。医療情報系企業で事業開発、コンサルティング業務に従事した後、2012年に「食と栄養」専門の経営コンサルティング事務所LotusTableを設立する。現在は、業種・地域を問わず経営コンサルティングや人材育成を行っている。小売店（アパレルショップ、雑貨店、サロン等）、飲食店における店舗マネジメント、接客・販売研修での登壇実績も多数。\n\n申込・問い合わせ\n必要事項をご記入の上、下記よりお申し込みください。 参加決定の返信がない場合、お手数ですがお電話での確認をお願いいたします。エラー: コンタクトフォームが見つかりません。
URL:https://chibayorozu.go.jp/event/241017am/
LOCATION:千葉県よろず支援拠点\, 美浜区中瀬2-6-1\, 千葉市\, 千葉県\, 261-7123\, 日本
ORGANIZER;CN="%E5%8D%83%E8%91%89%E7%9C%8C%E3%82%88%E3%82%8D%E3%81%9A%E6%94%AF%E6%8F%B4%E6%8B%A0%E7%82%B9":MAILTO:seminarentry@chibayorozu.go.jp
END:VEVENT
END:VCALENDAR